BEGIN:VCALENDAR
VERSION:2.0
PRODID:-//Pinedale Bible Church - ECPv6.11.0.1//NONSGML v1.0//EN
CALSCALE:GREGORIAN
METHOD:PUBLISH
X-WR-CALNAME:Pinedale Bible Church
X-ORIGINAL-URL:https://pinedalebiblechurch.com
X-WR-CALDESC:Events for Pinedale Bible Church
REFRESH-INTERVAL;VALUE=DURATION:PT1H
X-Robots-Tag:noindex
X-PUBLISHED-TTL:PT1H
BEGIN:VTIMEZONE
TZID:America/Denver
BEGIN:DAYLIGHT
TZOFFSETFROM:-0700
TZOFFSETTO:-0600
TZNAME:MDT
DTSTART:20260308T090000
END:DAYLIGHT
BEGIN:STANDARD
TZOFFSETFROM:-0600
TZOFFSETTO:-0700
TZNAME:MST
DTSTART:20261101T080000
END:STANDARD
END:VTIMEZONE
BEGIN:VEVENT
DTSTART;TZID=America/Denver:20260322T170000
DTEND;TZID=America/Denver:20260322T190000
DTSTAMP:20260419T064201
CREATED:20260306T021742Z
LAST-MODIFIED:20260306T025025Z
UID:10859-1774198800-1774206000@pinedalebiblechurch.com
SUMMARY:Chili Cook Off! - H.S. Youth  Fundraiser
DESCRIPTION:
URL:https://pinedalebiblechurch.com/event/chili-cook-off-h-s-youth-fundraiser/
LOCATION:Pinedale Bible Church\, 219 Industrial Site Road\, Pinedale\, WY\, 82941\, United States
ATTACH;FMTTYPE=image/jpeg:https://pinedalebiblechurch.com/wp-content/uploads/2026/03/Chili-Cook-off.jpeg
END:VEVENT
END:VCALENDAR